BEGIN:VCALENDAR
VERSION:2.0
PRODID:-//SiMODiSA Digital Portal - ECPv5.0.3.1//NONSGML v1.0//EN
CALSCALE:GREGORIAN
METHOD:PUBLISH
X-WR-CALNAME:SiMODiSA Digital Portal
X-ORIGINAL-URL:https://venturecentral.simodisa.org
X-WR-CALDESC:Events for SiMODiSA Digital Portal
BEGIN:VTIMEZONE
TZID:Africa/Johannesburg
BEGIN:STANDARD
TZOFFSETFROM:+0200
TZOFFSETTO:+0200
TZNAME:SAST
DTSTART:20190101T000000
END:STANDARD
END:VTIMEZONE
BEGIN:VEVENT
DTSTART;TZID=Africa/Johannesburg:20190326T130000
DTEND;TZID=Africa/Johannesburg:20190326T143000
DTSTAMP:20260425T135924
CREATED:20190318T134948Z
LAST-MODIFIED:20190318T134948Z
UID:17658-1553605200-1553610600@venturecentral.simodisa.org
SUMMARY:How (NOT) to build a team
DESCRIPTION:Solution Space Learning Lunches provide a space for entrepreneurs to learn from experts in their field. We invite guests to speak on a range of topics that address common pain points faced by all founders. \nThis month we invited Simon Blampied\, who was most recently the Customer Success Lead at Yoco\, to share some insights on how to grow strong teams for startups. With a focus on the following points: \n\nStarting a team\nRunning a team\nHiring and Onboarding\n\nSpeaker: Simon Blampied \nSimon Blampied has worked on projects across the product and customer lifecycle. Most recently\, he was responsible for building and leading the customer success team at Yoco\, focusing on improving customer experience and lifetime value. \n
URL:https://venturecentral.simodisa.org/event/17658/
ATTACH;FMTTYPE=:
END:VEVENT
END:VCALENDAR