BEGIN:VCALENDAR
VERSION:2.0
PRODID:-//SiMODiSA Digital Portal - ECPv5.0.3.1//NONSGML v1.0//EN
CALSCALE:GREGORIAN
METHOD:PUBLISH
X-WR-CALNAME:SiMODiSA Digital Portal
X-ORIGINAL-URL:https://venturecentral.simodisa.org
X-WR-CALDESC:Events for SiMODiSA Digital Portal
BEGIN:VTIMEZONE
TZID:Africa/Johannesburg
BEGIN:STANDARD
TZOFFSETFROM:+0200
TZOFFSETTO:+0200
TZNAME:SAST
DTSTART:20190101T000000
END:STANDARD
END:VTIMEZONE
BEGIN:VEVENT
DTSTART;TZID=Africa/Johannesburg:20190529T090000
DTEND;TZID=Africa/Johannesburg:20190529T120000
DTSTAMP:20260421T035856
CREATED:20190524T132233Z
LAST-MODIFIED:20190524T132233Z
UID:18142-1559120400-1559131200@venturecentral.simodisa.org
SUMMARY:Digital Academy - CV workshop for the youth of Gauteng
DESCRIPTION:The Digital Academy\, a leading alt-ed software development institution supporting South Africa’s unemployed youth\, is hosting a FREE CV workshop for the youth of Gauteng as the country heads into Youth month. \nSpeakers and demonstrations will address the following topics:- \n\nCreating your best CV\nYour personal brand\nAligning your skills to industry demand\nEngaging with your future employer\n\nThe event will also focus on practical examples of mock interviews\, do’s-and-don’ts that are relevant to actual work in SA\, we will hear from your future employer what they look for and have a panel discussion with employers\, the unemployed\, and recently employed graduates. It promises to be highly impactful with the potential of extending this once-off event into a road show to create more impact for those that desperately need it. \n
URL:https://venturecentral.simodisa.org/event/18142/
ATTACH;FMTTYPE=:
END:VEVENT
END:VCALENDAR