BEGIN:VCALENDAR
VERSION:2.0
PRODID:-//SiMODiSA Digital Portal - ECPv5.0.3.1//NONSGML v1.0//EN
CALSCALE:GREGORIAN
METHOD:PUBLISH
X-WR-CALNAME:SiMODiSA Digital Portal
X-ORIGINAL-URL:https://venturecentral.simodisa.org
X-WR-CALDESC:Events for SiMODiSA Digital Portal
BEGIN:VTIMEZONE
TZID:Africa/Johannesburg
BEGIN:STANDARD
TZOFFSETFROM:+0200
TZOFFSETTO:+0200
TZNAME:SAST
DTSTART:20190101T000000
END:STANDARD
END:VTIMEZONE
BEGIN:VEVENT
DTSTART;VALUE=DATE:20190723
DTEND;VALUE=DATE:20190724
DTSTAMP:20260421T021837
CREATED:20190704T094551Z
LAST-MODIFIED:20190704T094551Z
UID:18640-1563840000-1563926399@venturecentral.simodisa.org
SUMMARY:2019 Allan Gray Investment Summit 2019 - Johannesburg
DESCRIPTION:Get a rare glimpse into the investment minds of prominent local and global fund managers\, and walk away with insights on how to become a better investor. \n
URL:https://venturecentral.simodisa.org/event/2019-allan-gray-investment-summit-2019-johannesburg/
LOCATION:blog-50
ATTACH;FMTTYPE=:
END:VEVENT
END:VCALENDAR