BEGIN:VCALENDAR
VERSION:2.0
PRODID:-//SiMODiSA Digital Portal - ECPv5.0.3.1//NONSGML v1.0//EN
CALSCALE:GREGORIAN
METHOD:PUBLISH
X-WR-CALNAME:SiMODiSA Digital Portal
X-ORIGINAL-URL:https://venturecentral.simodisa.org
X-WR-CALDESC:Events for SiMODiSA Digital Portal
BEGIN:VTIMEZONE
TZID:Africa/Johannesburg
BEGIN:STANDARD
TZOFFSETFROM:+0200
TZOFFSETTO:+0200
TZNAME:SAST
DTSTART:20190101T000000
END:STANDARD
END:VTIMEZONE
BEGIN:VEVENT
DTSTART;TZID=Africa/Johannesburg:20190911T100000
DTEND;TZID=Africa/Johannesburg:20190911T150000
DTSTAMP:20260420T170720
CREATED:20190808T165323Z
LAST-MODIFIED:20190808T165323Z
UID:20116-1568196000-1568214000@venturecentral.simodisa.org
SUMMARY:2019 BusinessTech FinTech Conference
DESCRIPTION:The BusinessTech FinTech Conference is an exclusive event for high-level financial\, ICT and business executives and professionals. \nThe conference will feature industry experts in the financial and digital technology industry who will share their insights into a variety of topics\, including FinTech disruption\, lending innovation\, financial inclusion\, digital banking\, blockchain and AI. \n
URL:https://venturecentral.simodisa.org/event/2019-businesstech-fintech-conference/
END:VEVENT
END:VCALENDAR