BEGIN:VCALENDAR
VERSION:2.0
PRODID:-//SiMODiSA Digital Portal - ECPv5.0.3.1//NONSGML v1.0//EN
CALSCALE:GREGORIAN
METHOD:PUBLISH
X-WR-CALNAME:SiMODiSA Digital Portal
X-ORIGINAL-URL:https://venturecentral.simodisa.org
X-WR-CALDESC:Events for SiMODiSA Digital Portal
BEGIN:VTIMEZONE
TZID:Africa/Johannesburg
BEGIN:STANDARD
TZOFFSETFROM:+0200
TZOFFSETTO:+0200
TZNAME:SAST
DTSTART:20190101T000000
END:STANDARD
END:VTIMEZONE
BEGIN:VEVENT
DTSTART;TZID=Africa/Johannesburg:20190404T173000
DTEND;TZID=Africa/Johannesburg:20190404T200000
DTSTAMP:20260421T014410
CREATED:20190401T135800Z
LAST-MODIFIED:20190401T135800Z
UID:17756-1554399000-1554408000@venturecentral.simodisa.org
SUMMARY:2019 Yoco Meets
DESCRIPTION:Yoco has decided to change up their Yoco Meets format! They’re putting the Y back in Yoco with themed\, bi-monthly Yoco Meets\, focused on You. The new format will feature various small business owners who’ll use the platform to share knowledge about their business journeys. \nOne theme. One intimate setting. 30 guests. An open session of learning\, networking and connecting. No set agenda and no programme. We want to get to know you as a small business owner. Your “why”. Your “what”. And where you want to go. \nThe first Yoco Meets of the year is themed #KasiBusiness. They want to get the scoop on what it’s like starting\, running and growing a business in the Township. Join them and a host of other small business owners as we discuss the opportunities and challenges of doing business eKasi. \nCome grab a beer and a snack and learn from fellow small business owners. \n
URL:https://venturecentral.simodisa.org/event/2019-yoco-meets/
ATTACH;FMTTYPE=:
END:VEVENT
END:VCALENDAR