BEGIN:VCALENDAR
VERSION:2.0
PRODID:-//SiMODiSA Digital Portal - ECPv5.0.3.1//NONSGML v1.0//EN
CALSCALE:GREGORIAN
METHOD:PUBLISH
X-WR-CALNAME:SiMODiSA Digital Portal
X-ORIGINAL-URL:https://venturecentral.simodisa.org
X-WR-CALDESC:Events for SiMODiSA Digital Portal
BEGIN:VTIMEZONE
TZID:Africa/Johannesburg
BEGIN:STANDARD
TZOFFSETFROM:+0200
TZOFFSETTO:+0200
TZNAME:SAST
DTSTART:20200101T000000
END:STANDARD
END:VTIMEZONE
BEGIN:VEVENT
DTSTART;TZID=Africa/Johannesburg:20200118T090000
DTEND;TZID=Africa/Johannesburg:20200118T130000
DTSTAMP:20260420T165245
CREATED:20200107T120023Z
LAST-MODIFIED:20200107T120023Z
UID:25487-1579338000-1579352400@venturecentral.simodisa.org
SUMMARY:2020 Goal Setters Workshop | Future Females Johannesburg
DESCRIPTION:“A goal properly set is halfway reached.” – Zig Ziglar \nA Harvard Business Study found that the 3% of graduates from their MBA who had their goals written down\, ended up earning ten times as much as the other 97% put together\, just ten years after graduation. \nIt’s easy to say “Ok I’ll write down my goals\, 1…2…3…”\, but do you know how to write your goals\, and what sort of goals you should be setting? Do you know how best to execute those goals\, and put an effective plan in place to manage\, track and adjust your goals? \nWe all know the benefits of goal setting\, however\, in order to truly harness those benefits\, it is imperative that we do the exercise properly. We have decided to organise a facilitated workshop to assist you in setting appropriate goals and creating an effective strategy to achieve those goals. \nThis workshop is applicable to setting personal goals\, and goals for your business! \n
URL:https://venturecentral.simodisa.org/event/2020-goal-setters-workshop-future-females-johannesburg/
ATTACH;FMTTYPE=:
END:VEVENT
END:VCALENDAR