BEGIN:VCALENDAR
VERSION:2.0
PRODID:-//SiMODiSA Digital Portal - ECPv5.0.3.1//NONSGML v1.0//EN
CALSCALE:GREGORIAN
METHOD:PUBLISH
X-WR-CALNAME:SiMODiSA Digital Portal
X-ORIGINAL-URL:https://venturecentral.simodisa.org
X-WR-CALDESC:Events for SiMODiSA Digital Portal
BEGIN:VTIMEZONE
TZID:Africa/Johannesburg
BEGIN:STANDARD
TZOFFSETFROM:+0200
TZOFFSETTO:+0200
TZNAME:SAST
DTSTART:20190101T000000
END:STANDARD
END:VTIMEZONE
BEGIN:VEVENT
DTSTART;TZID=Africa/Johannesburg:20190718T100000
DTEND;TZID=Africa/Johannesburg:20190718T153000
DTSTAMP:20260420T185009
CREATED:20190715T110856Z
LAST-MODIFIED:20190715T110856Z
UID:18775-1563444000-1563463800@venturecentral.simodisa.org
SUMMARY:22 On Sloane Mandela Day Charity Event
DESCRIPTION:Calling out to startups\, Entrepreneurs and postgraduates to join us at 22 ON SLOANE as we celebrate Mandela Day by donating our time and raising funds to assist local schools. \nThis event will feature a few speakers that will help with guidance on entrepreneurship and guidance on how to make it as a startup business. \n
URL:https://venturecentral.simodisa.org/event/22-on-sloane-mandela-day-charity-event/
ATTACH;FMTTYPE=:
END:VEVENT
END:VCALENDAR