BEGIN:VCALENDAR
VERSION:2.0
PRODID:-//SiMODiSA Digital Portal - ECPv5.0.3.1//NONSGML v1.0//EN
CALSCALE:GREGORIAN
METHOD:PUBLISH
X-WR-CALNAME:SiMODiSA Digital Portal
X-ORIGINAL-URL:https://venturecentral.simodisa.org
X-WR-CALDESC:Events for SiMODiSA Digital Portal
BEGIN:VTIMEZONE
TZID:Africa/Johannesburg
BEGIN:STANDARD
TZOFFSETFROM:+0200
TZOFFSETTO:+0200
TZNAME:SAST
DTSTART:20190101T000000
END:STANDARD
END:VTIMEZONE
BEGIN:VEVENT
DTSTART;VALUE=DATE:20190618
DTEND;VALUE=DATE:20190621
DTSTAMP:20260421T021606
CREATED:20190618T093334Z
LAST-MODIFIED:20190618T093334Z
UID:18411-1560816000-1561075199@venturecentral.simodisa.org
SUMMARY:5th Annual Meeting of the ID4Africa Movement
DESCRIPTION:\n\n\nThe 5th Annual Meeting of the ID4Africa Movement (ID4Africa 2019) is hosted by the Department of Home Affairs (DHA)\, the Ministry of Home Affairs\, of the Republic of South Africa on 18-20 June 2019 in Johannesburg. \nThe overall theme will be “Identity Ecosystems for Service Delivery”.  \n\n\n\n ID4Africa 2019 builds on the achievements of the 4th Annual Meeting in 2018 by defining a context for the adoption and deployment of responsible identity systems\, including legal frameworks\, institutional arrangements\, governance\, data protection\, privacy and human rights\, with special attention to the use of identity in support of service delivery to enhance inclusion and access by all sectors of society. Please consult the program for details on the thematic tracks. In addition\, the Annual Meeting features the largest worldwide exposition of identity solutions and technologies.\n
URL:https://venturecentral.simodisa.org/event/5th-annual-meeting-of-the-id4africa-movement/
ATTACH;FMTTYPE=:
END:VEVENT
END:VCALENDAR