BEGIN:VCALENDAR
VERSION:2.0
PRODID:-//SiMODiSA Digital Portal - ECPv5.0.3.1//NONSGML v1.0//EN
CALSCALE:GREGORIAN
METHOD:PUBLISH
X-WR-CALNAME:SiMODiSA Digital Portal
X-ORIGINAL-URL:https://venturecentral.simodisa.org
X-WR-CALDESC:Events for SiMODiSA Digital Portal
BEGIN:VTIMEZONE
TZID:Africa/Johannesburg
BEGIN:STANDARD
TZOFFSETFROM:+0200
TZOFFSETTO:+0200
TZNAME:SAST
DTSTART:20190101T000000
END:STANDARD
END:VTIMEZONE
BEGIN:VEVENT
DTSTART;TZID=Africa/Johannesburg:20190409T073000
DTEND;TZID=Africa/Johannesburg:20190411T170000
DTSTAMP:20260420T184900
CREATED:20190108T141440Z
LAST-MODIFIED:20190108T141440Z
UID:17386-1554795000-1555002000@venturecentral.simodisa.org
SUMMARY:6th Annual Smart Procurement World Conference and Expo WC
DESCRIPTION:SA’s leading procurement and supply chain summit is the definitive event for procurement professionals to attend as it affords delegates the opportunity to gain fresh insight into various procurement and supply management topics. \nIt’s time that business alleviates the bottlenecks to growth and progress without opening organisations to governance nightmares and security concerns. It’s time to empower businesses to adapt and modify processes without running into roadblocks. Can you see how exactly procurement and supply chain can achieve this? \nLook forward to: \n\nKeynote presentations from industry leaders.\nPost conference learning labs\nOver 65 value-add sessions.\nOver 50+ international\, regional and local speakers\n3 days of networking with key stakeholders\, learning and growing and countless opportunities to elevate your business to the next level.\n\nAlso join us for SA’s largest linkage programme where Buyers and Sellers meet on the 10 April 2019\, which is open to the public at large. \n
URL:https://venturecentral.simodisa.org/event/6th-annual-smart-procurement-world-conference-and-expo-wc/
END:VEVENT
END:VCALENDAR