BEGIN:VCALENDAR
VERSION:2.0
PRODID:-//SiMODiSA Digital Portal - ECPv5.0.3.1//NONSGML v1.0//EN
CALSCALE:GREGORIAN
METHOD:PUBLISH
X-WR-CALNAME:SiMODiSA Digital Portal
X-ORIGINAL-URL:https://venturecentral.simodisa.org
X-WR-CALDESC:Events for SiMODiSA Digital Portal
BEGIN:VTIMEZONE
TZID:Africa/Johannesburg
BEGIN:STANDARD
TZOFFSETFROM:+0200
TZOFFSETTO:+0200
TZNAME:SAST
DTSTART:20200101T000000
END:STANDARD
END:VTIMEZONE
BEGIN:VEVENT
DTSTART;VALUE=DATE:20200130
DTEND;VALUE=DATE:20200201
DTSTAMP:20260420T184633
CREATED:20200107T121127Z
LAST-MODIFIED:20200107T121127Z
UID:25493-1580342400-1580515199@venturecentral.simodisa.org
SUMMARY:A-Game Business 10X Summit
DESCRIPTION:The A-Game Business 10X Summit” – A unique and HIGH-IMPACT 2-Day business development event during which you will gain years of learning and principles applied by the most successful entrepreneurs and business leaders\, both locally and abroad. During the event\, you will access a body of knowledge\, expert guidance and methodologies that show entrepreneurs exactly how to run\, build and grow a profitable\, sustainable self-managing business.\nThe A-Game Business 10X Summit will help you access the greater market share\, fast\, and on a strong foundation. This event is primarily for experienced entrepreneurs and business executives who need a series of easy-to-follow concepts to examine and revise existing strategies and processes for scaling their business. \n  \n
URL:https://venturecentral.simodisa.org/event/a-game-business-10x-summit/
END:VEVENT
END:VCALENDAR