BEGIN:VCALENDAR
VERSION:2.0
PRODID:-//SiMODiSA Digital Portal - ECPv5.0.3.1//NONSGML v1.0//EN
CALSCALE:GREGORIAN
METHOD:PUBLISH
X-WR-CALNAME:SiMODiSA Digital Portal
X-ORIGINAL-URL:https://venturecentral.simodisa.org
X-WR-CALDESC:Events for SiMODiSA Digital Portal
BEGIN:VTIMEZONE
TZID:Africa/Johannesburg
BEGIN:STANDARD
TZOFFSETFROM:+0200
TZOFFSETTO:+0200
TZNAME:SAST
DTSTART:20190101T000000
END:STANDARD
END:VTIMEZONE
BEGIN:VEVENT
DTSTART;TZID=Africa/Johannesburg:20190227T083000
DTEND;TZID=Africa/Johannesburg:20190227T123000
DTSTAMP:20260423T171644
CREATED:20190117T134739Z
LAST-MODIFIED:20190117T134739Z
UID:17409-1551256200-1551270600@venturecentral.simodisa.org
SUMMARY:Accelerate Your Business And Access Funding 2019
DESCRIPTION:The workshop will discuss a comprehensive approach to growing your business. This is event is co sponsored by STANDARD BANK \, BUSINESS PARTNERS and TUV-NORD so entrance is FREE. \nYou will receive valuable tips\, solutions\, training \,support\,advise on how you can take your business to the next level. It will answer some pertinent questions about financial and performance management and how to access funding and support from corporates and local and National government. You will be able to conduct an assessment and decide on the short and long-term strategies for your business. \n
URL:https://venturecentral.simodisa.org/event/accelerate-your-business-and-access-funding-2019/
END:VEVENT
END:VCALENDAR