BEGIN:VCALENDAR
VERSION:2.0
PRODID:-//SiMODiSA Digital Portal - ECPv5.0.3.1//NONSGML v1.0//EN
CALSCALE:GREGORIAN
METHOD:PUBLISH
X-WR-CALNAME:SiMODiSA Digital Portal
X-ORIGINAL-URL:https://venturecentral.simodisa.org
X-WR-CALDESC:Events for SiMODiSA Digital Portal
BEGIN:VTIMEZONE
TZID:Africa/Johannesburg
BEGIN:STANDARD
TZOFFSETFROM:+0200
TZOFFSETTO:+0200
TZNAME:SAST
DTSTART:20190101T000000
END:STANDARD
END:VTIMEZONE
BEGIN:VEVENT
DTSTART;TZID=Africa/Johannesburg:20190212T110000
DTEND;TZID=Africa/Johannesburg:20190212T160000
DTSTAMP:20260421T074023
CREATED:20190212T150451Z
LAST-MODIFIED:20190212T150451Z
UID:17477-1549969200-1549987200@venturecentral.simodisa.org
SUMMARY:AeroCon 2019 Johannesburg
DESCRIPTION:Aerocon is the place to be if you want to enter the drone industry in South Africa as a pilot or a service provider. \nYou will walk away from the event knowing exactly what it entails\, and what it will cost to become a legally compliant drone pilot in South Africa. \n
URL:https://venturecentral.simodisa.org/event/aerocon-2019-johannesburg/
ATTACH;FMTTYPE=:
END:VEVENT
END:VCALENDAR