BEGIN:VCALENDAR
VERSION:2.0
PRODID:-//SiMODiSA Digital Portal - ECPv5.0.3.1//NONSGML v1.0//EN
CALSCALE:GREGORIAN
METHOD:PUBLISH
X-WR-CALNAME:SiMODiSA Digital Portal
X-ORIGINAL-URL:https://venturecentral.simodisa.org
X-WR-CALDESC:Events for SiMODiSA Digital Portal
BEGIN:VTIMEZONE
TZID:Africa/Johannesburg
BEGIN:STANDARD
TZOFFSETFROM:+0200
TZOFFSETTO:+0200
TZNAME:SAST
DTSTART:20190101T000000
END:STANDARD
END:VTIMEZONE
BEGIN:VEVENT
DTSTART;TZID=Africa/Johannesburg:20191113T100000
DTEND;TZID=Africa/Johannesburg:20191114T200000
DTSTAMP:20260420T184902
CREATED:20190701T130212Z
LAST-MODIFIED:20190701T130212Z
UID:18557-1573639200-1573761600@venturecentral.simodisa.org
SUMMARY:Africa Early Stage Investor Summit 2019
DESCRIPTION:Africa’s early stage investor community will convene November 13-15 for the Africa Early Stage Investor Summit 2019. This exclusive investor-only event\, to be hosted in Cape Town\, South Africa\, unites key ecosystem stakeholders from across the continent and beyond\, to exchange best practices\, learn from peers and recent transactions\, and do deals. \nFor more information visit www.AfricaInvestorSummit.com. Looking forward to welcoming you to #AESIS2019! \nTickets below include: \n\nEntrance to the Africa Early Stage Investor Summit 2019\, November 13 and 14\nExclusive use of investor deal room at Workshop17\nWelcome cocktail\, November 13th\nInvestor workshops and masterclasses\, November 14th\nVIP breakfast + dinner\, November 14th\nVC4A Pro Account access for 3 months\n\nExcluding Cape Town Innovation Tour November 15th. \n
URL:https://venturecentral.simodisa.org/event/africa-early-stage-investor-summit-2019/
ATTACH;FMTTYPE=:
END:VEVENT
END:VCALENDAR