BEGIN:VCALENDAR
VERSION:2.0
PRODID:-//SiMODiSA Digital Portal - ECPv5.0.3.1//NONSGML v1.0//EN
CALSCALE:GREGORIAN
METHOD:PUBLISH
X-WR-CALNAME:SiMODiSA Digital Portal
X-ORIGINAL-URL:https://venturecentral.simodisa.org
X-WR-CALDESC:Events for SiMODiSA Digital Portal
BEGIN:VTIMEZONE
TZID:Africa/Johannesburg
BEGIN:STANDARD
TZOFFSETFROM:+0200
TZOFFSETTO:+0200
TZNAME:SAST
DTSTART:20190101T000000
END:STANDARD
END:VTIMEZONE
BEGIN:VEVENT
DTSTART;VALUE=DATE:20190304
DTEND;VALUE=DATE:20190306
DTSTAMP:20260420T200916
CREATED:20190219T114512Z
LAST-MODIFIED:20190219T114512Z
UID:17526-1551657600-1551830399@venturecentral.simodisa.org
SUMMARY:Africa Tech Week
DESCRIPTION:The Africa Tech Week is a conference\, exhibition and awards for African tech professionals. Digital transformation requires cooperation between companies\, government and civil society and Africa Tech Week creates a unique platform for exactly this. \nAfrica Tech Week promotes digital transformation by connecting government\, corporates and fresh talent in the tech industry. Interact with the business leaders shaping the way to the future. \n  \n
URL:https://venturecentral.simodisa.org/event/africa-tech-week/
ATTACH;FMTTYPE=:
END:VEVENT
END:VCALENDAR