BEGIN:VCALENDAR
VERSION:2.0
PRODID:-//SiMODiSA Digital Portal - ECPv5.0.3.1//NONSGML v1.0//EN
CALSCALE:GREGORIAN
METHOD:PUBLISH
X-WR-CALNAME:SiMODiSA Digital Portal
X-ORIGINAL-URL:https://venturecentral.simodisa.org
X-WR-CALDESC:Events for SiMODiSA Digital Portal
BEGIN:VTIMEZONE
TZID:Africa/Johannesburg
BEGIN:STANDARD
TZOFFSETFROM:+0200
TZOFFSETTO:+0200
TZNAME:SAST
DTSTART:20180101T000000
END:STANDARD
END:VTIMEZONE
BEGIN:VEVENT
DTSTART;TZID=Africa/Johannesburg:20181113T080000
DTEND;TZID=Africa/Johannesburg:20181115T170000
DTSTAMP:20260423T103445
CREATED:20181109T160737Z
LAST-MODIFIED:20181109T160737Z
UID:17296-1542096000-1542301200@venturecentral.simodisa.org
SUMMARY:AfricaCom
DESCRIPTION:
URL:https://venturecentral.simodisa.org/event/africacom-2/
END:VEVENT
END:VCALENDAR