BEGIN:VCALENDAR
VERSION:2.0
PRODID:-//SiMODiSA Digital Portal - ECPv5.0.3.1//NONSGML v1.0//EN
CALSCALE:GREGORIAN
METHOD:PUBLISH
X-WR-CALNAME:SiMODiSA Digital Portal
X-ORIGINAL-URL:https://venturecentral.simodisa.org
X-WR-CALDESC:Events for SiMODiSA Digital Portal
BEGIN:VTIMEZONE
TZID:Africa/Johannesburg
BEGIN:STANDARD
TZOFFSETFROM:+0200
TZOFFSETTO:+0200
TZNAME:SAST
DTSTART:20170101T000000
END:STANDARD
END:VTIMEZONE
BEGIN:VEVENT
DTSTART;VALUE=DATE:20171106
DTEND;VALUE=DATE:20171108
DTSTAMP:20260420T235810
CREATED:20171025T161204Z
LAST-MODIFIED:20171025T161204Z
UID:10344-1509926400-1510099199@venturecentral.simodisa.org
SUMMARY:AFRICARENA 2017
DESCRIPTION:AfricArena 2017 is a conference positioned as a bridge between international technology stalwarts and African technology innovators. \n
URL:https://venturecentral.simodisa.org/event/africarena-2017/
ATTACH;FMTTYPE=:
END:VEVENT
END:VCALENDAR