BEGIN:VCALENDAR
VERSION:2.0
PRODID:-//SiMODiSA Digital Portal - ECPv5.0.3.1//NONSGML v1.0//EN
CALSCALE:GREGORIAN
METHOD:PUBLISH
X-WR-CALNAME:SiMODiSA Digital Portal
X-ORIGINAL-URL:https://venturecentral.simodisa.org
X-WR-CALDESC:Events for SiMODiSA Digital Portal
BEGIN:VTIMEZONE
TZID:Africa/Johannesburg
BEGIN:STANDARD
TZOFFSETFROM:+0200
TZOFFSETTO:+0200
TZNAME:SAST
DTSTART:20190101T000000
END:STANDARD
END:VTIMEZONE
BEGIN:VEVENT
DTSTART;TZID=Africa/Johannesburg:20190620T110000
DTEND;TZID=Africa/Johannesburg:20190620T120000
DTSTAMP:20260421T061146
CREATED:20190614T154652Z
LAST-MODIFIED:20190614T154652Z
UID:18405-1561028400-1561032000@venturecentral.simodisa.org
SUMMARY:AFRICA’S FIRST AI FOCUSED VENTURE CAPITAL FUND: INFO SESSION
DESCRIPTION:Cortex Ventures to host an info session on Africa’s first AI-focused Venture Capital Fund on 20 June 2019. \nDoes your startup leverage AI & Data science? If so\, we’d like to invite you to attend an info session with Dr Nick Bradshaw\, CEO Cortex Ventures\, Africa’s first AI focused VC fund. \nStart-ups seeking seed to growth stage funding are invited. \nTalk title “Cortex Ventures – A New VC Investing in African AI & Data Science startups” \n
URL:https://venturecentral.simodisa.org/event/africas-first-ai-focused-venture-capital-fund-info-session/
END:VEVENT
END:VCALENDAR