BEGIN:VCALENDAR
VERSION:2.0
PRODID:-//SiMODiSA Digital Portal - ECPv5.0.3.1//NONSGML v1.0//EN
CALSCALE:GREGORIAN
METHOD:PUBLISH
X-WR-CALNAME:SiMODiSA Digital Portal
X-ORIGINAL-URL:https://venturecentral.simodisa.org
X-WR-CALDESC:Events for SiMODiSA Digital Portal
BEGIN:VTIMEZONE
TZID:Africa/Johannesburg
BEGIN:STANDARD
TZOFFSETFROM:+0200
TZOFFSETTO:+0200
TZNAME:SAST
DTSTART:20190101T000000
END:STANDARD
END:VTIMEZONE
BEGIN:VEVENT
DTSTART;TZID=Africa/Johannesburg:20190809T070000
DTEND;TZID=Africa/Johannesburg:20190809T170000
DTSTAMP:20260423T140025
CREATED:20190729T105136Z
LAST-MODIFIED:20190729T105136Z
UID:19770-1565334000-1565370000@venturecentral.simodisa.org
SUMMARY:Agenda Women Summit
DESCRIPTION:Agenda women is an online platform and offline events for women seeking to connect with like-minded women and content that helps them grow in their personal and professional lives. We take a 360 approach to our conversations around being a modern woman in the working world… \nWe gather creatives\, entrepreneurs and female leaders to spark conversation around the topics they are passionate about from building your business to self-development\, we engage all the topics for modern working women. \nMore TBC \n
URL:https://venturecentral.simodisa.org/event/agenda-women-summit/
ATTACH;FMTTYPE=:
END:VEVENT
END:VCALENDAR