BEGIN:VCALENDAR
VERSION:2.0
PRODID:-//SiMODiSA Digital Portal - ECPv5.0.3.1//NONSGML v1.0//EN
CALSCALE:GREGORIAN
METHOD:PUBLISH
X-WR-CALNAME:SiMODiSA Digital Portal
X-ORIGINAL-URL:https://venturecentral.simodisa.org
X-WR-CALDESC:Events for SiMODiSA Digital Portal
BEGIN:VTIMEZONE
TZID:Africa/Johannesburg
BEGIN:STANDARD
TZOFFSETFROM:+0200
TZOFFSETTO:+0200
TZNAME:SAST
DTSTART:20170101T000000
END:STANDARD
END:VTIMEZONE
BEGIN:VEVENT
DTSTART;TZID=Africa/Johannesburg:20171205T173000
DTEND;TZID=Africa/Johannesburg:20171205T203000
DTSTAMP:20260425T154536
CREATED:20171025T150648Z
LAST-MODIFIED:20171025T150648Z
UID:10044-1512495000-1512505800@venturecentral.simodisa.org
SUMMARY:Agile Innovations Projects & Mobile with Derrick Kotze
DESCRIPTION:
URL:https://venturecentral.simodisa.org/event/agile-innovations-projects-mobile-with-derrick-kotze/
LOCATION:Commuscore’s Solution to Providing Credit Evaluation for the Unbanked
END:VEVENT
END:VCALENDAR