BEGIN:VCALENDAR
VERSION:2.0
PRODID:-//SiMODiSA Digital Portal - ECPv5.0.3.1//NONSGML v1.0//EN
CALSCALE:GREGORIAN
METHOD:PUBLISH
X-WR-CALNAME:SiMODiSA Digital Portal
X-ORIGINAL-URL:https://venturecentral.simodisa.org
X-WR-CALDESC:Events for SiMODiSA Digital Portal
BEGIN:VTIMEZONE
TZID:Africa/Johannesburg
BEGIN:STANDARD
TZOFFSETFROM:+0200
TZOFFSETTO:+0200
TZNAME:SAST
DTSTART:20190101T000000
END:STANDARD
END:VTIMEZONE
BEGIN:VEVENT
DTSTART;VALUE=DATE:20190904
DTEND;VALUE=DATE:20190906
DTSTAMP:20260421T040418
CREATED:20190129T111637Z
LAST-MODIFIED:20190129T111637Z
UID:17434-1567555200-1567727999@venturecentral.simodisa.org
SUMMARY:AI Expo Africa 2019
DESCRIPTION:AI Expo Africa is the largest business focused AI community event in Africa. The 2019 conference and expo (4th-5th September 2019) builds upon the phenomenal success of the inaugural event\, that was held in Cape Town\, September 2018\, that cemented it as the largest gathering of CxOs\, investors\, buyers\, suppliers\, innovators\, SMBs and global brands in the region focusing on real world AI and Data Science applications. \n
URL:https://venturecentral.simodisa.org/event/ai-expo-africa-2019/
END:VEVENT
END:VCALENDAR