BEGIN:VCALENDAR
VERSION:2.0
PRODID:-//SiMODiSA Digital Portal - ECPv5.0.3.1//NONSGML v1.0//EN
CALSCALE:GREGORIAN
METHOD:PUBLISH
X-WR-CALNAME:SiMODiSA Digital Portal
X-ORIGINAL-URL:https://venturecentral.simodisa.org
X-WR-CALDESC:Events for SiMODiSA Digital Portal
BEGIN:VTIMEZONE
TZID:Africa/Johannesburg
BEGIN:STANDARD
TZOFFSETFROM:+0200
TZOFFSETTO:+0200
TZNAME:SAST
DTSTART:20170101T000000
END:STANDARD
END:VTIMEZONE
BEGIN:VEVENT
DTSTART;TZID=Africa/Johannesburg:20171101T090000
DTEND;TZID=Africa/Johannesburg:20171101T130000
DTSTAMP:20260420T220858
CREATED:20171025T154719Z
LAST-MODIFIED:20171025T154719Z
UID:10234-1509526800-1509541200@venturecentral.simodisa.org
SUMMARY:ANDE SA Incubator and Accelerator Roundtable
DESCRIPTION:
URL:https://venturecentral.simodisa.org/event/ande-sa-incubator-and-accelerator-roundtable/
ATTACH;FMTTYPE=:
END:VEVENT
END:VCALENDAR