BEGIN:VCALENDAR
VERSION:2.0
PRODID:-//SiMODiSA Digital Portal - ECPv5.0.3.1//NONSGML v1.0//EN
CALSCALE:GREGORIAN
METHOD:PUBLISH
X-WR-CALNAME:SiMODiSA Digital Portal
X-ORIGINAL-URL:https://venturecentral.simodisa.org
X-WR-CALDESC:Events for SiMODiSA Digital Portal
BEGIN:VTIMEZONE
TZID:Africa/Johannesburg
BEGIN:STANDARD
TZOFFSETFROM:+0200
TZOFFSETTO:+0200
TZNAME:SAST
DTSTART:20170101T000000
END:STANDARD
END:VTIMEZONE
BEGIN:VEVENT
DTSTART;TZID=Africa/Johannesburg:20170905T083000
DTEND;TZID=Africa/Johannesburg:20170905T093000
DTSTAMP:20260421T013737
CREATED:20170810T131359Z
LAST-MODIFIED:20170810T131359Z
UID:26332-1504600200-1504603800@venturecentral.simodisa.org
SUMMARY:Angel investors meet up
DESCRIPTION:
URL:https://venturecentral.simodisa.org/event/angel-investors-meet-up/
LOCATION:blog-46
END:VEVENT
END:VCALENDAR