BEGIN:VCALENDAR
VERSION:2.0
PRODID:-//SiMODiSA Digital Portal - ECPv5.0.3.1//NONSGML v1.0//EN
CALSCALE:GREGORIAN
METHOD:PUBLISH
X-WR-CALNAME:SiMODiSA Digital Portal
X-ORIGINAL-URL:https://venturecentral.simodisa.org
X-WR-CALDESC:Events for SiMODiSA Digital Portal
BEGIN:VTIMEZONE
TZID:Africa/Johannesburg
BEGIN:STANDARD
TZOFFSETFROM:+0200
TZOFFSETTO:+0200
TZNAME:SAST
DTSTART:20190101T000000
END:STANDARD
END:VTIMEZONE
BEGIN:VEVENT
DTSTART;TZID=Africa/Johannesburg:20190523T180000
DTEND;TZID=Africa/Johannesburg:20190523T210000
DTSTAMP:20260421T040015
CREATED:20190520T124742Z
LAST-MODIFIED:20190520T124742Z
UID:18112-1558634400-1558645200@venturecentral.simodisa.org
SUMMARY:AR/VR Tech Meet-Up
DESCRIPTION:Come let us explore the state of AR/VR in South Africa\, and the opportunities that exist. \nTopics: \n\nDefinitions and industry overview of AR/ VR technology\nLatest and exciting AR\, VR and 360 Videos coming out of SA\nWhat AR/VR means for education\nHow township and rural areas can benefit from the technology\, and how we can ensure that communities are not left behind\nHow far we are as South Africa and Africa when coming to AR/VR\, and how we compare with the rest of the world\nWhat challenges South Africa face and how can we position ourselves to compete with the rest of the world\n\n
URL:https://venturecentral.simodisa.org/event/arvr-tech-meet-up/
END:VEVENT
END:VCALENDAR