BEGIN:VCALENDAR
VERSION:2.0
PRODID:-//SiMODiSA Digital Portal - ECPv5.0.3.1//NONSGML v1.0//EN
CALSCALE:GREGORIAN
METHOD:PUBLISH
X-WR-CALNAME:SiMODiSA Digital Portal
X-ORIGINAL-URL:https://venturecentral.simodisa.org
X-WR-CALDESC:Events for SiMODiSA Digital Portal
BEGIN:VTIMEZONE
TZID:Africa/Johannesburg
BEGIN:STANDARD
TZOFFSETFROM:+0200
TZOFFSETTO:+0200
TZNAME:SAST
DTSTART:20190101T000000
END:STANDARD
END:VTIMEZONE
BEGIN:VEVENT
DTSTART;VALUE=DATE:20190305
DTEND;VALUE=DATE:20190330
DTSTAMP:20260420T215418
CREATED:20190318T151132Z
LAST-MODIFIED:20190318T151132Z
UID:17663-1551744000-1553903999@venturecentral.simodisa.org
SUMMARY:AWS Pop-up Loft | Johannesburg
DESCRIPTION:The AWS Pop-up Loft | Johannesburg is a temporary events & community space where you can access AWS technical training\, enjoy the co-working facilities\, book one-to-one support with AWS experts and get free coffee and access to wi-fi. \nLocated in the central hub of Sandton\, the AWS Loft will host a packed programme of sessions covering a range of topics including Containers\, Artificial Intelligence and Machine Learning to name a few. We will also have AWS Solutions Architects on hand to provide you with the guidance you need for your project. \nYou can look forward to: \n\n● 4500+ attendees\n● 100+ sessions\, workshops and demos\n● 15+ partners \n\nSo\, come and build something at the AWS Pop-up Loft in Johannesburg. \n
URL:https://venturecentral.simodisa.org/event/aws-pop-up-loft-johannesburg/
ATTACH;FMTTYPE=:
END:VEVENT
END:VCALENDAR