BEGIN:VCALENDAR
VERSION:2.0
PRODID:-//SiMODiSA Digital Portal - ECPv5.0.3.1//NONSGML v1.0//EN
CALSCALE:GREGORIAN
METHOD:PUBLISH
X-WR-CALNAME:SiMODiSA Digital Portal
X-ORIGINAL-URL:https://venturecentral.simodisa.org
X-WR-CALDESC:Events for SiMODiSA Digital Portal
BEGIN:VTIMEZONE
TZID:Africa/Johannesburg
BEGIN:STANDARD
TZOFFSETFROM:+0200
TZOFFSETTO:+0200
TZNAME:SAST
DTSTART:20190101T000000
END:STANDARD
END:VTIMEZONE
BEGIN:VEVENT
DTSTART;TZID=Africa/Johannesburg:20190820T100000
DTEND;TZID=Africa/Johannesburg:20190820T130000
DTSTAMP:20260420T165152
CREATED:20190813T123556Z
LAST-MODIFIED:20190813T123556Z
UID:24865-1566295200-1566306000@venturecentral.simodisa.org
SUMMARY:BBC Roundtable discussion with Landbank - Funding Opportunities
DESCRIPTION:Registration: 08:30 – 09:45 \nOfficial Start: 10:00 – 13:00 \n
URL:https://venturecentral.simodisa.org/event/bbc-roundtable-discussion-with-landbank-funding-opportunities/
ATTACH;FMTTYPE=:
END:VEVENT
END:VCALENDAR