BEGIN:VCALENDAR
VERSION:2.0
PRODID:-//SiMODiSA Digital Portal - ECPv5.0.3.1//NONSGML v1.0//EN
CALSCALE:GREGORIAN
METHOD:PUBLISH
X-WR-CALNAME:SiMODiSA Digital Portal
X-ORIGINAL-URL:https://venturecentral.simodisa.org
X-WR-CALDESC:Events for SiMODiSA Digital Portal
BEGIN:VTIMEZONE
TZID:Africa/Johannesburg
BEGIN:STANDARD
TZOFFSETFROM:+0200
TZOFFSETTO:+0200
TZNAME:SAST
DTSTART:20190101T000000
END:STANDARD
END:VTIMEZONE
BEGIN:VEVENT
DTSTART;TZID=Africa/Johannesburg:20190801T173000
DTEND;TZID=Africa/Johannesburg:20190801T193000
DTSTAMP:20260425T233320
CREATED:20190729T113101Z
LAST-MODIFIED:20190729T113101Z
UID:19788-1564680600-1564687800@venturecentral.simodisa.org
SUMMARY:Bertha Centre: Shifting the System - JHB
DESCRIPTION:Shifting The System brings together Johannesburg alumni from the Bertha Centre Systems Change and Social Impact course\, Impact Investing Executive Education courses and Bertha Scholars who are applying different knowledge sets to shift systems in areas such as education\, health\, finance\, and more. \n
URL:https://venturecentral.simodisa.org/event/bertha-centre-shifting-the-system-jhb/
END:VEVENT
END:VCALENDAR