BEGIN:VCALENDAR
VERSION:2.0
PRODID:-//SiMODiSA Digital Portal - ECPv5.0.3.1//NONSGML v1.0//EN
CALSCALE:GREGORIAN
METHOD:PUBLISH
X-WR-CALNAME:SiMODiSA Digital Portal
X-ORIGINAL-URL:https://venturecentral.simodisa.org
X-WR-CALDESC:Events for SiMODiSA Digital Portal
BEGIN:VTIMEZONE
TZID:Africa/Johannesburg
BEGIN:STANDARD
TZOFFSETFROM:+0200
TZOFFSETTO:+0200
TZNAME:SAST
DTSTART:20180101T000000
END:STANDARD
END:VTIMEZONE
BEGIN:VEVENT
DTSTART;TZID=Africa/Johannesburg:20181114T100000
DTEND;TZID=Africa/Johannesburg:20181114T180000
DTSTAMP:20260421T073010
CREATED:20180628T152538Z
LAST-MODIFIED:20180628T152538Z
UID:16762-1542189600-1542218400@venturecentral.simodisa.org
SUMMARY:Bring Your A-Game (Part 1)
DESCRIPTION:
URL:https://venturecentral.simodisa.org/event/bring-your-a-game-part-1/
ATTACH;FMTTYPE=:
END:VEVENT
END:VCALENDAR