BEGIN:VCALENDAR
VERSION:2.0
PRODID:-//SiMODiSA Digital Portal - ECPv5.0.3.1//NONSGML v1.0//EN
CALSCALE:GREGORIAN
METHOD:PUBLISH
X-WR-CALNAME:SiMODiSA Digital Portal
X-ORIGINAL-URL:https://venturecentral.simodisa.org
X-WR-CALDESC:Events for SiMODiSA Digital Portal
BEGIN:VTIMEZONE
TZID:Africa/Johannesburg
BEGIN:STANDARD
TZOFFSETFROM:+0200
TZOFFSETTO:+0200
TZNAME:SAST
DTSTART:20190101T000000
END:STANDARD
END:VTIMEZONE
BEGIN:VEVENT
DTSTART;TZID=Africa/Johannesburg:20190228T180000
DTEND;TZID=Africa/Johannesburg:20190228T210000
DTSTAMP:20260421T055720
CREATED:20190225T150710Z
LAST-MODIFIED:20190225T150710Z
UID:17561-1551376800-1551387600@venturecentral.simodisa.org
SUMMARY:Building Balance | Future Females
DESCRIPTION:Work–life balance is the term used to describe the balance that an individual needs between time allocated for work and other aspects of life. Areas of life other than work–life can be\, but not limited to personal interests\, family and social or leisure activities. \nAt FF we pride ourselves in being career driven but also making time for our personal and social lives! \nJoin us as we dive into how to achieve work life balance in an age where time is our most precious resource. \n
URL:https://venturecentral.simodisa.org/event/building-balance-future-females/
END:VEVENT
END:VCALENDAR