BEGIN:VCALENDAR
VERSION:2.0
PRODID:-//SiMODiSA Digital Portal - ECPv5.0.3.1//NONSGML v1.0//EN
CALSCALE:GREGORIAN
METHOD:PUBLISH
X-WR-CALNAME:SiMODiSA Digital Portal
X-ORIGINAL-URL:https://venturecentral.simodisa.org
X-WR-CALDESC:Events for SiMODiSA Digital Portal
BEGIN:VTIMEZONE
TZID:Africa/Johannesburg
BEGIN:STANDARD
TZOFFSETFROM:+0200
TZOFFSETTO:+0200
TZNAME:SAST
DTSTART:20190101T000000
END:STANDARD
END:VTIMEZONE
BEGIN:VEVENT
DTSTART;TZID=Africa/Johannesburg:20190528T183000
DTEND;TZID=Africa/Johannesburg:20190528T200000
DTSTAMP:20260423T091018
CREATED:20190527T104858Z
LAST-MODIFIED:20190527T104858Z
UID:18168-1559068200-1559073600@venturecentral.simodisa.org
SUMMARY:Can Objectives & Key Results (OKRs) Build a Product Roadmap?
DESCRIPTION:Join us at the next Product School event in Johannesburg to learn about how objectives and key results (OKRs) can help you build your product roadmap! \nWhether you are new or advanced in Product Management or want to know how you can apply these business principles as an entrepreneur. Also\, come if you are curious about transitioning into a new career in Product Management. \nWith Speaker: LeRoy Barnes \n
URL:https://venturecentral.simodisa.org/event/can-objectives-key-results-okrs-build-a-product-roadmap/
END:VEVENT
END:VCALENDAR