BEGIN:VCALENDAR
VERSION:2.0
PRODID:-//SiMODiSA Digital Portal - ECPv5.0.3.1//NONSGML v1.0//EN
CALSCALE:GREGORIAN
METHOD:PUBLISH
X-WR-CALNAME:SiMODiSA Digital Portal
X-ORIGINAL-URL:https://venturecentral.simodisa.org
X-WR-CALDESC:Events for SiMODiSA Digital Portal
BEGIN:VTIMEZONE
TZID:Africa/Johannesburg
BEGIN:STANDARD
TZOFFSETFROM:+0200
TZOFFSETTO:+0200
TZNAME:SAST
DTSTART:20190101T000000
END:STANDARD
END:VTIMEZONE
BEGIN:VEVENT
DTSTART;TZID=Africa/Johannesburg:20190306T183000
DTEND;TZID=Africa/Johannesburg:20190306T203000
DTSTAMP:20260420T214510
CREATED:20190304T121641Z
LAST-MODIFIED:20190304T121641Z
UID:17592-1551897000-1551904200@venturecentral.simodisa.org
SUMMARY:Cape Town LawTech Community Meet Up
DESCRIPTION:A discussion and networking event looking at how the lawtech landscape is addressing the challenges of today’s businesses. \nDespite all the talk\, actual use of LawTech by in-house teams is pretty low. Tech should be a means to an end\, and doesn’t need to create a big\, complicated IT implementation project. It’s time for the legal community to lead the way in helping organisations recognise how technology can improve the way they manage legal processes and support the business. \nWe’ll walk through the broad landscape of tech available across the contracting lifecycle\, and cut through the noise to identify systems that will actually help. We’ll talk about LawTech hype\, design thinking\, which are the systems that add the most value to your work\, and how to successfully roll out tools and get them adopted. \n
URL:https://venturecentral.simodisa.org/event/cape-town-lawtech-community-meet-up/
END:VEVENT
END:VCALENDAR