BEGIN:VCALENDAR
VERSION:2.0
PRODID:-//SiMODiSA Digital Portal - ECPv5.0.3.1//NONSGML v1.0//EN
CALSCALE:GREGORIAN
METHOD:PUBLISH
X-WR-CALNAME:SiMODiSA Digital Portal
X-ORIGINAL-URL:https://venturecentral.simodisa.org
X-WR-CALDESC:Events for SiMODiSA Digital Portal
BEGIN:VTIMEZONE
TZID:Africa/Johannesburg
BEGIN:STANDARD
TZOFFSETFROM:+0200
TZOFFSETTO:+0200
TZNAME:SAST
DTSTART:20190101T000000
END:STANDARD
END:VTIMEZONE
BEGIN:VEVENT
DTSTART;TZID=Africa/Johannesburg:20190903T150000
DTEND;TZID=Africa/Johannesburg:20190903T180000
DTSTAMP:20260421T061427
CREATED:20190701T140900Z
LAST-MODIFIED:20190701T140900Z
UID:18570-1567522800-1567533600@venturecentral.simodisa.org
SUMMARY:Cape Town Startup Pitch Event - AfricArena Tour 2019
DESCRIPTION:This is a call to Capetownian TECH STARTUPS\, INVESTORS\, and African TECH ECOSYSTEM community and enthusiasts! \nAfricArena exists to provide a platform where startups can tell their story\, gain valuable networks and attain funding. \nThe AfricArena Tour is the pre-selection process for the AfricArena Summit – an annual conference that showcases Africa’s best startups and innovators in front of an audience of local and international investors looking for world-class talent. AfricArena scours the major capitals of the continent in search of tech startups that have the potential to disrupt. \nThe Tour is coming to Cape Town to give the best Capetownianentrepreneurs the opportunity to share their business model and convince the expert judges why they should be advanced to pitch at the grand finale in Cape Town\, South Africa. \n
URL:https://venturecentral.simodisa.org/event/cape-town-startup-pitch-event-africarena-tour-2019/
END:VEVENT
END:VCALENDAR