BEGIN:VCALENDAR
VERSION:2.0
PRODID:-//SiMODiSA Digital Portal - ECPv5.0.3.1//NONSGML v1.0//EN
CALSCALE:GREGORIAN
METHOD:PUBLISH
X-WR-CALNAME:SiMODiSA Digital Portal
X-ORIGINAL-URL:https://venturecentral.simodisa.org
X-WR-CALDESC:Events for SiMODiSA Digital Portal
BEGIN:VTIMEZONE
TZID:Africa/Johannesburg
BEGIN:STANDARD
TZOFFSETFROM:+0200
TZOFFSETTO:+0200
TZNAME:SAST
DTSTART:20190101T000000
END:STANDARD
END:VTIMEZONE
BEGIN:VEVENT
DTSTART;TZID=Africa/Johannesburg:20190307T070000
DTEND;TZID=Africa/Johannesburg:20190307T160000
DTSTAMP:20260420T184526
CREATED:20190304T152422Z
LAST-MODIFIED:20190304T152422Z
UID:17603-1551942000-1551974400@venturecentral.simodisa.org
SUMMARY:CCBSA Supplier Development Conference 2019
DESCRIPTION:COCA-COLA BEVERAGES South Africa\, is calling SMME’s to a developmental day of COLLABORATIVE & INCLUSIVE GROWTH. We encourage all to take this unique opportunity to interact one-on-one with over 1000 handpicked\, high-growth companies and various corporates\, across a variety of industries. Our exciting programme line-up for 2019 includes keynote addresses from various captains of industry from various sectors. To attend\, please register either as a delegate or exhibitor via link in bio. \nFocus industries will be EME’s-revenue below R10mill & QSE’s-revenue R10-R50m within the following sectors:\n– Engineering\n– Logistics\n– Manufacturing\n– Agriculture\n– Marketing & Business Services\nEngage via all social media platforms using #CCBSASDC19 #CCBSA and follow @funandclassrelations for more info \n
URL:https://venturecentral.simodisa.org/event/ccbsa-supplier-development-conference-2019/
ATTACH;FMTTYPE=:
END:VEVENT
END:VCALENDAR