BEGIN:VCALENDAR
VERSION:2.0
PRODID:-//SiMODiSA Digital Portal - ECPv5.0.3.1//NONSGML v1.0//EN
CALSCALE:GREGORIAN
METHOD:PUBLISH
X-WR-CALNAME:SiMODiSA Digital Portal
X-ORIGINAL-URL:https://venturecentral.simodisa.org
X-WR-CALDESC:Events for SiMODiSA Digital Portal
BEGIN:VTIMEZONE
TZID:Africa/Johannesburg
BEGIN:STANDARD
TZOFFSETFROM:+0200
TZOFFSETTO:+0200
TZNAME:SAST
DTSTART:20190101T000000
END:STANDARD
END:VTIMEZONE
BEGIN:VEVENT
DTSTART;TZID=Africa/Johannesburg:20190718T140000
DTEND;TZID=Africa/Johannesburg:20190718T190000
DTSTAMP:20260420T184526
CREATED:20190715T112110Z
LAST-MODIFIED:20190715T112110Z
UID:18780-1563458400-1563476400@venturecentral.simodisa.org
SUMMARY:Connect eCommerce Summit 2019 - CPT
DESCRIPTION:Following the success of the first Connect eCommerce Summit in 2018\, Shopify and uAfrica are back in July for Connect 2019. Along with other major players in the South African eCommerce field\, we bring you the industry experts\, the insights\, skills and knowledge to establish\, grow and improve your online store. \nShopify is coming to South Africa for this event and sending representatives to provide valuable insight\, while uAfrica’s very own Andy Higgins will be sharing his vast knowledge on the eCommerce space. Also joining them is Warrick Kernes\, founder of the Insaka eCommerce Academy. Hear about eCommerce success stories\, listen to a panel discussion involving some of the top players in the industry and network with like-minded people in the exciting field of eCommerce. \n
URL:https://venturecentral.simodisa.org/event/connect-ecommerce-summit-2019-cpt/
ATTACH;FMTTYPE=:
END:VEVENT
END:VCALENDAR