BEGIN:VCALENDAR
VERSION:2.0
PRODID:-//SiMODiSA Digital Portal - ECPv5.0.3.1//NONSGML v1.0//EN
CALSCALE:GREGORIAN
METHOD:PUBLISH
X-WR-CALNAME:SiMODiSA Digital Portal
X-ORIGINAL-URL:https://venturecentral.simodisa.org
X-WR-CALDESC:Events for SiMODiSA Digital Portal
BEGIN:VTIMEZONE
TZID:Africa/Johannesburg
BEGIN:STANDARD
TZOFFSETFROM:+0200
TZOFFSETTO:+0200
TZNAME:SAST
DTSTART:20190101T000000
END:STANDARD
END:VTIMEZONE
BEGIN:VEVENT
DTSTART;TZID=Africa/Johannesburg:20190525T100000
DTEND;TZID=Africa/Johannesburg:20190525T160000
DTSTAMP:20260421T000713
CREATED:20190516T153522Z
LAST-MODIFIED:20190516T153522Z
UID:18082-1558778400-1558800000@venturecentral.simodisa.org
SUMMARY:Conversations with Allegro D & Friends - Johannesburg
DESCRIPTION:A woman empowerment-networking soiree brought to you by Boss Chiq SA and Orgella Media. “Conversations with Allegro D & Friends” is a mentorship and networking event that seeks to inspire young women with businesses and those with aspirations to start their own businesses by providing a platform for mentorship\, branding & networking. This exclusive bi-annual event is hosted by media entrepreneur and philanthropist\, Allegro Dinkwanyane. \n
URL:https://venturecentral.simodisa.org/event/conversations-with-allegro-d-friends-johannesburg/
ATTACH;FMTTYPE=:
END:VEVENT
END:VCALENDAR