BEGIN:VCALENDAR
VERSION:2.0
PRODID:-//SiMODiSA Digital Portal - ECPv5.0.3.1//NONSGML v1.0//EN
CALSCALE:GREGORIAN
METHOD:PUBLISH
X-WR-CALNAME:SiMODiSA Digital Portal
X-ORIGINAL-URL:https://venturecentral.simodisa.org
X-WR-CALDESC:Events for SiMODiSA Digital Portal
BEGIN:VTIMEZONE
TZID:Africa/Johannesburg
BEGIN:STANDARD
TZOFFSETFROM:+0200
TZOFFSETTO:+0200
TZNAME:SAST
DTSTART:20170101T000000
END:STANDARD
END:VTIMEZONE
BEGIN:VEVENT
DTSTART;TZID=Africa/Johannesburg:20171110T073000
DTEND;TZID=Africa/Johannesburg:20171110T083000
DTSTAMP:20260421T074007
CREATED:20171025T162630Z
LAST-MODIFIED:20171025T162630Z
UID:10414-1510299000-1510302600@venturecentral.simodisa.org
SUMMARY:Crucial Mentoring Conversations
DESCRIPTION:
URL:https://venturecentral.simodisa.org/event/crucial-mentoring-conversations/
ATTACH;FMTTYPE=:
END:VEVENT
END:VCALENDAR