BEGIN:VCALENDAR
VERSION:2.0
PRODID:-//SiMODiSA Digital Portal - ECPv5.0.3.1//NONSGML v1.0//EN
CALSCALE:GREGORIAN
METHOD:PUBLISH
X-WR-CALNAME:SiMODiSA Digital Portal
X-ORIGINAL-URL:https://venturecentral.simodisa.org
X-WR-CALDESC:Events for SiMODiSA Digital Portal
BEGIN:VTIMEZONE
TZID:Africa/Johannesburg
BEGIN:STANDARD
TZOFFSETFROM:+0200
TZOFFSETTO:+0200
TZNAME:SAST
DTSTART:20190101T000000
END:STANDARD
END:VTIMEZONE
BEGIN:VEVENT
DTSTART;TZID=Africa/Johannesburg:20191010T180000
DTEND;TZID=Africa/Johannesburg:20191010T210000
DTSTAMP:20260420T184323
CREATED:20191007T110331Z
LAST-MODIFIED:20191007T110331Z
UID:25446-1570730400-1570741200@venturecentral.simodisa.org
SUMMARY:Delta Venture Talks
DESCRIPTION:Join us for an evening of like-minded people where we’ll be discussing the phases of product development and how to maximise the probability of success in launching new products to market. \nWe’ll be joined by the founders of two up-and-coming South African start-up’s to discuss their ongoing journey through each phase of the product development lifecycle. \n
URL:https://venturecentral.simodisa.org/event/delta-venture-talks/
END:VEVENT
END:VCALENDAR