BEGIN:VCALENDAR
VERSION:2.0
PRODID:-//SiMODiSA Digital Portal - ECPv5.0.3.1//NONSGML v1.0//EN
CALSCALE:GREGORIAN
METHOD:PUBLISH
X-WR-CALNAME:SiMODiSA Digital Portal
X-ORIGINAL-URL:https://venturecentral.simodisa.org
X-WR-CALDESC:Events for SiMODiSA Digital Portal
BEGIN:VTIMEZONE
TZID:Africa/Johannesburg
BEGIN:STANDARD
TZOFFSETFROM:+0200
TZOFFSETTO:+0200
TZNAME:SAST
DTSTART:20170101T000000
END:STANDARD
END:VTIMEZONE
BEGIN:VEVENT
DTSTART;TZID=Africa/Johannesburg:20170905T080000
DTEND;TZID=Africa/Johannesburg:20170905T100000
DTSTAMP:20260421T032232
CREATED:20170810T131232Z
LAST-MODIFIED:20170810T131232Z
UID:26331-1504598400-1504605600@venturecentral.simodisa.org
SUMMARY:Digital innovation pitching contest
DESCRIPTION:
URL:https://venturecentral.simodisa.org/event/digital-innovation-pitching-contest/
LOCATION:blog-50
END:VEVENT
END:VCALENDAR