BEGIN:VCALENDAR
VERSION:2.0
PRODID:-//SiMODiSA Digital Portal - ECPv5.0.3.1//NONSGML v1.0//EN
CALSCALE:GREGORIAN
METHOD:PUBLISH
X-WR-CALNAME:SiMODiSA Digital Portal
X-ORIGINAL-URL:https://venturecentral.simodisa.org
X-WR-CALDESC:Events for SiMODiSA Digital Portal
BEGIN:VTIMEZONE
TZID:Africa/Johannesburg
BEGIN:STANDARD
TZOFFSETFROM:+0200
TZOFFSETTO:+0200
TZNAME:SAST
DTSTART:20200101T000000
END:STANDARD
END:VTIMEZONE
BEGIN:VEVENT
DTSTART;TZID=Africa/Johannesburg:20200219T080000
DTEND;TZID=Africa/Johannesburg:20200219T100000
DTSTAMP:20260420T201942
CREATED:20200217T130821Z
LAST-MODIFIED:20200217T130821Z
UID:25633-1582099200-1582106400@venturecentral.simodisa.org
SUMMARY:Durban Chamber of Commerce and Industry's Trade and Investment Forum
DESCRIPTION:Join the Durban Chamber of Commerce and Industry’s Trade and Investment Forum to learn more about trade negotiations and Preferential Market Access and support programmes offered by Trade and Investment KwaZulu-Natal (TIKZN). \nMembers: FREE\nNon-Members: R 350 (payable at the venue) \nVenue:\nDurban Chamber of Commerce and Industry\,\nConference Centre\, Lion Match Office Park\,\n892 Umgeni Road.\nGoogle Map \nFor further information\, please contact Bharriey Pillay or call 031 335 1000. \n
URL:https://venturecentral.simodisa.org/event/durban-chamber-of-commerce-and-industrys-trade-and-investment-forum/
ATTACH;FMTTYPE=:
END:VEVENT
END:VCALENDAR