BEGIN:VCALENDAR
VERSION:2.0
PRODID:-//SiMODiSA Digital Portal - ECPv5.0.3.1//NONSGML v1.0//EN
CALSCALE:GREGORIAN
METHOD:PUBLISH
X-WR-CALNAME:SiMODiSA Digital Portal
X-ORIGINAL-URL:https://venturecentral.simodisa.org
X-WR-CALDESC:Events for SiMODiSA Digital Portal
BEGIN:VTIMEZONE
TZID:Africa/Johannesburg
BEGIN:STANDARD
TZOFFSETFROM:+0200
TZOFFSETTO:+0200
TZNAME:SAST
DTSTART:20190101T000000
END:STANDARD
END:VTIMEZONE
BEGIN:VEVENT
DTSTART;TZID=Africa/Johannesburg:20190228T153000
DTEND;TZID=Africa/Johannesburg:20190228T180000
DTSTAMP:20260423T105427
CREATED:20190212T153607Z
LAST-MODIFIED:20190212T153607Z
UID:17494-1551367800-1551376800@venturecentral.simodisa.org
SUMMARY:Ecosystem Forum - The State of Entrepreneurship in South Africa
DESCRIPTION:The purpose of the Entrepreneurship Ecosystem Forum is to create a platform for strategic engagement between role players involved in entrepreneurial development. In accordance\, a series of engagements between the private and public sectors involved in entrepreneurship development are hosted with the aim of facilitating the sharing of experiences\, successes\, and lessons learned\, in pursuit of accelerating entrepreneurial development. \n
URL:https://venturecentral.simodisa.org/event/ecosystem-forum-the-state-of-entrepreneurship-in-south-africa/
ATTACH;FMTTYPE=:
END:VEVENT
END:VCALENDAR