BEGIN:VCALENDAR
VERSION:2.0
PRODID:-//SiMODiSA Digital Portal - ECPv5.0.3.1//NONSGML v1.0//EN
CALSCALE:GREGORIAN
METHOD:PUBLISH
X-WR-CALNAME:SiMODiSA Digital Portal
X-ORIGINAL-URL:https://venturecentral.simodisa.org
X-WR-CALDESC:Events for SiMODiSA Digital Portal
BEGIN:VTIMEZONE
TZID:Africa/Johannesburg
BEGIN:STANDARD
TZOFFSETFROM:+0200
TZOFFSETTO:+0200
TZNAME:SAST
DTSTART:20190101T000000
END:STANDARD
END:VTIMEZONE
BEGIN:VEVENT
DTSTART;TZID=Africa/Johannesburg:20190919T173000
DTEND;TZID=Africa/Johannesburg:20190919T200000
DTSTAMP:20260421T022417
CREATED:20190916T115046Z
LAST-MODIFIED:20190916T115046Z
UID:25338-1568914200-1568923200@venturecentral.simodisa.org
SUMMARY:EDF Pulse Startup Awards Energy Challenge
DESCRIPTION:IoE Africa in Partnership with EDF\, Fliptin and FSACCI is proud to host\, EDF Pulse Startup Awards\, Energy Challenge. These Awards are an opportunity to support and assist African innovators playing a role in energy development. \n
URL:https://venturecentral.simodisa.org/event/edf-pulse-startup-awards-energy-challenge/
ATTACH;FMTTYPE=:
END:VEVENT
END:VCALENDAR