BEGIN:VCALENDAR
VERSION:2.0
PRODID:-//SiMODiSA Digital Portal - ECPv5.0.3.1//NONSGML v1.0//EN
CALSCALE:GREGORIAN
METHOD:PUBLISH
X-WR-CALNAME:SiMODiSA Digital Portal
X-ORIGINAL-URL:https://venturecentral.simodisa.org
X-WR-CALDESC:Events for SiMODiSA Digital Portal
BEGIN:VTIMEZONE
TZID:Africa/Johannesburg
BEGIN:STANDARD
TZOFFSETFROM:+0200
TZOFFSETTO:+0200
TZNAME:SAST
DTSTART:20190101T000000
END:STANDARD
END:VTIMEZONE
BEGIN:VEVENT
DTSTART;TZID=Africa/Johannesburg:20190815T180000
DTEND;TZID=Africa/Johannesburg:20190815T210000
DTSTAMP:20260420T203757
CREATED:20190808T165016Z
LAST-MODIFIED:20190808T165016Z
UID:20114-1565892000-1565902800@venturecentral.simodisa.org
SUMMARY:Energy Innovation Tech Meetup
DESCRIPTION:Come and let us explore the state of Energy Innovations in South Africa and the opportunities that exist. \nTopic: \nInnovations coming out of SA for the Energy Sector \nSpeakers: \n1. Toby Kurien\, IBM \n2. Edmond Khoza\, Lamo Solar \n3. Trevane Paul\, </devXpress> \n
URL:https://venturecentral.simodisa.org/event/energy-innovation-tech-meetup/
END:VEVENT
END:VCALENDAR