BEGIN:VCALENDAR
VERSION:2.0
PRODID:-//SiMODiSA Digital Portal - ECPv5.0.3.1//NONSGML v1.0//EN
CALSCALE:GREGORIAN
METHOD:PUBLISH
X-WR-CALNAME:SiMODiSA Digital Portal
X-ORIGINAL-URL:https://venturecentral.simodisa.org
X-WR-CALDESC:Events for SiMODiSA Digital Portal
BEGIN:VTIMEZONE
TZID:Africa/Johannesburg
BEGIN:STANDARD
TZOFFSETFROM:+0200
TZOFFSETTO:+0200
TZNAME:SAST
DTSTART:20190101T000000
END:STANDARD
END:VTIMEZONE
BEGIN:VEVENT
DTSTART;VALUE=DATE:20190709
DTEND;VALUE=DATE:20190712
DTSTAMP:20260421T000236
CREATED:20190527T162524Z
LAST-MODIFIED:20190527T162524Z
UID:18186-1562630400-1562889599@venturecentral.simodisa.org
SUMMARY:FDT Africa 2019
DESCRIPTION:This platform is becoming one of the most important networking and business platforms for the beverage and food industry in South Africa\, designed especially for the needs of the Southern African market. \n\nThe most important business platform in Southern Africa: Make valuable new contacts! \n\nThe working and networking trade fair for the complete Southern African market for the beverage and food industry.\nBenefit from the industry’s top marketing know-how – local and international industry experts are here to support you.\nHigh service quality and an international standard.\n\n  \nKnowledge and presentation platform: Learn about groundbreaking new ideas \n\nInternational and national trends and developments are presented at the exhibitor forum.\nContacts to the international trade\, daily and business press.\nPresentation meetings for practical knowledge transfer\, information\, and networking throughout the year.\n\nFocus on Africa \n\nStrategic focus on an up-and-coming market.\nTailor-made solutions for the Southern African market by matching supply and demand.\nMesse München’s drinktec\, the world’s leading trade fair for the beverage and liquid food industry\,  contributes advice and expertise.\n\n  \n  \n  \n\n
URL:https://venturecentral.simodisa.org/event/fdt-africa-2019/
ATTACH;FMTTYPE=:
END:VEVENT
END:VCALENDAR