BEGIN:VCALENDAR
VERSION:2.0
PRODID:-//SiMODiSA Digital Portal - ECPv5.0.3.1//NONSGML v1.0//EN
CALSCALE:GREGORIAN
METHOD:PUBLISH
X-WR-CALNAME:SiMODiSA Digital Portal
X-ORIGINAL-URL:https://venturecentral.simodisa.org
X-WR-CALDESC:Events for SiMODiSA Digital Portal
BEGIN:VTIMEZONE
TZID:Africa/Johannesburg
BEGIN:STANDARD
TZOFFSETFROM:+0200
TZOFFSETTO:+0200
TZNAME:SAST
DTSTART:20190101T000000
END:STANDARD
END:VTIMEZONE
BEGIN:VEVENT
DTSTART;VALUE=DATE:20190724
DTEND;VALUE=DATE:20190726
DTSTAMP:20260421T080917
CREATED:20190722T123522Z
LAST-MODIFIED:20190722T123522Z
UID:19439-1563926400-1564099199@venturecentral.simodisa.org
SUMMARY:Finnovex South Africa
DESCRIPTION:The financial services landscape in Africa is amid a dynamic evolution as rapid growth. FinTech on the continent drives both the disruption and turn-around of legacy systems and accelerates the digital transformation of financial services. Major banks in South Africa are adopting and steering their own innovation strategies and collaborating with new start-ups to drive productivity and capture new markets. The FinTech adoption rate\, in Africa\, is expected to soar over the next few years\, with South Africa ranking third in future growth after China and India. South Africa is home to a large number of technology hubs\, which is significantly larger than any other country on the continent and the country enjoys a significant amount of national and international investment in the sector. \n
URL:https://venturecentral.simodisa.org/event/finnovex-south-africa/
ATTACH;FMTTYPE=:
END:VEVENT
END:VCALENDAR