BEGIN:VCALENDAR
VERSION:2.0
PRODID:-//SiMODiSA Digital Portal - ECPv5.0.3.1//NONSGML v1.0//EN
CALSCALE:GREGORIAN
METHOD:PUBLISH
X-WR-CALNAME:SiMODiSA Digital Portal
X-ORIGINAL-URL:https://venturecentral.simodisa.org
X-WR-CALDESC:Events for SiMODiSA Digital Portal
BEGIN:VTIMEZONE
TZID:Africa/Johannesburg
BEGIN:STANDARD
TZOFFSETFROM:+0200
TZOFFSETTO:+0200
TZNAME:SAST
DTSTART:20190101T000000
END:STANDARD
END:VTIMEZONE
BEGIN:VEVENT
DTSTART;TZID=Africa/Johannesburg:20190228T180000
DTEND;TZID=Africa/Johannesburg:20190228T210000
DTSTAMP:20260423T090305
CREATED:20190225T112756Z
LAST-MODIFIED:20190225T112756Z
UID:17536-1551376800-1551387600@venturecentral.simodisa.org
SUMMARY:Fireside Chat with Danie Jacobs
DESCRIPTION:Danie Jacobs is the Founder and CEO of Young Entrepreneurs and the Young Entrepreneurs Foundation. Young Entrepreneurs teaches children and young adults vital entrepreneurial\, financial literacy\, employability and workplace readiness skills and help them start and grow their own micro-enterprises in a fun and experiential way. \nAbout YE – Young Entrepreneurs Young Entrepreneurs programmes are designed to encourage entrepreneurial thinking and financial literacy to spark the entrepreneurial spirit in young people. They inspire the young to live their dreams\, and make up for the gaps left by an educational system that ill prepares students for the world of work and business. \n
URL:https://venturecentral.simodisa.org/event/fireside-chat-with-danie-jacobs/
ATTACH;FMTTYPE=:
END:VEVENT
END:VCALENDAR