BEGIN:VCALENDAR
VERSION:2.0
PRODID:-//SiMODiSA Digital Portal - ECPv5.0.3.1//NONSGML v1.0//EN
CALSCALE:GREGORIAN
METHOD:PUBLISH
X-WR-CALNAME:SiMODiSA Digital Portal
X-ORIGINAL-URL:https://venturecentral.simodisa.org
X-WR-CALDESC:Events for SiMODiSA Digital Portal
BEGIN:VTIMEZONE
TZID:Africa/Johannesburg
BEGIN:STANDARD
TZOFFSETFROM:+0200
TZOFFSETTO:+0200
TZNAME:SAST
DTSTART:20190101T000000
END:STANDARD
END:VTIMEZONE
BEGIN:VEVENT
DTSTART;TZID=Africa/Johannesburg:20190211T183000
DTEND;TZID=Africa/Johannesburg:20190211T210000
DTSTAMP:20260421T035313
CREATED:20190212T150718Z
LAST-MODIFIED:20190212T150718Z
UID:17480-1549909800-1549918800@venturecentral.simodisa.org
SUMMARY:Fireside chat with The Lean Entrepreneur author Brant Cooper
DESCRIPTION:Join Brant Cooper — the co-founder of Moves the Needle and The New York Times bestselling author of “The Lean Entrepreneur” — as he chats about leadership and innovation in entrepreneurship. \n
URL:https://venturecentral.simodisa.org/event/fireside-chat-with-the-lean-entrepreneur-author-brant-cooper/
END:VEVENT
END:VCALENDAR