BEGIN:VCALENDAR
VERSION:2.0
PRODID:-//SiMODiSA Digital Portal - ECPv5.0.3.1//NONSGML v1.0//EN
CALSCALE:GREGORIAN
METHOD:PUBLISH
X-WR-CALNAME:SiMODiSA Digital Portal
X-ORIGINAL-URL:https://venturecentral.simodisa.org
X-WR-CALDESC:Events for SiMODiSA Digital Portal
BEGIN:VTIMEZONE
TZID:Africa/Johannesburg
BEGIN:STANDARD
TZOFFSETFROM:+0200
TZOFFSETTO:+0200
TZNAME:SAST
DTSTART:20190101T000000
END:STANDARD
END:VTIMEZONE
BEGIN:VEVENT
DTSTART;TZID=Africa/Johannesburg:20190212T080000
DTEND;TZID=Africa/Johannesburg:20190212T170000
DTSTAMP:20260421T060040
CREATED:20190212T152116Z
LAST-MODIFIED:20190212T152116Z
UID:17488-1549958400-1549990800@venturecentral.simodisa.org
SUMMARY:Free Cape Small Business Network hosts James van der Hoven (Vane Digital\, Leaderless)
DESCRIPTION:Are you a start-up\, entrepreneur or small business owner? Perhaps you just have an inkling of an idea and need some advice or inspiration. \nWe offer a relaxed and safe space for you to discuss any issues\, ideas or success stories. If you have any marketing problems you need help with\, you can bring them all to the table and tap into the wealth of experience and knowledge from the group. \nMots of us have an interest in Ecommerce\, so we are delighted to have James van der Hoven\, owner of Vane Digital and social entrepreneur talking to us \n
URL:https://venturecentral.simodisa.org/event/free-cape-small-business-network-hosts-james-van-der-hoven-vane-digital-leaderless/
ATTACH;FMTTYPE=:
END:VEVENT
END:VCALENDAR