BEGIN:VCALENDAR
VERSION:2.0
PRODID:-//SiMODiSA Digital Portal - ECPv5.0.3.1//NONSGML v1.0//EN
CALSCALE:GREGORIAN
METHOD:PUBLISH
X-WR-CALNAME:SiMODiSA Digital Portal
X-ORIGINAL-URL:https://venturecentral.simodisa.org
X-WR-CALDESC:Events for SiMODiSA Digital Portal
BEGIN:VTIMEZONE
TZID:Africa/Johannesburg
BEGIN:STANDARD
TZOFFSETFROM:+0200
TZOFFSETTO:+0200
TZNAME:SAST
DTSTART:20190101T000000
END:STANDARD
END:VTIMEZONE
BEGIN:VEVENT
DTSTART;TZID=Africa/Johannesburg:20190626T180000
DTEND;TZID=Africa/Johannesburg:20190626T200000
DTSTAMP:20260423T171158
CREATED:20190626T095332Z
LAST-MODIFIED:20190626T095332Z
UID:18473-1561572000-1561579200@venturecentral.simodisa.org
SUMMARY:Future Females presents Building an attractive and authentic brand
DESCRIPTION:***Networking event open to anyone interested in BRANDING – WED 26 JUNE @ 6 pm at the LaunchLab\, Stellenbosch*** \nDoes your business have a story to tell? It should. Does your brand stand out from the crowd? It should. \nIn the world of business\, a great brand is everything. Having a well-developed and powerful brand can be the difference between success and failure. In fact\, learning to develop your brand effectively and nurture its natural evolution is a necessity in today’s fast-paced world. \nWhether you are still employed and dream of being your own boss\, you’re self-employed and working on your own little project\, or simply curious to learn more about ***branding***\, this Future Females event is for you! \nThis event will give you the nuts and bolts to create\, improve\, and maintain a successful brand. Our two keynote speakers will teach you how to develop a logo and tagline\, manage and protect your brand\, launch a brand marketing plan\, fix a broken brand\, make customers loyal brand champions – and anything in between. You will also learn how to position your brand\, avoid blunders and keep your brand viable\, visible and healthy. \n
URL:https://venturecentral.simodisa.org/event/future-females-presents-building-an-attractive-and-authentic-brand/
END:VEVENT
END:VCALENDAR