BEGIN:VCALENDAR
VERSION:2.0
PRODID:-//SiMODiSA Digital Portal - ECPv5.0.3.1//NONSGML v1.0//EN
CALSCALE:GREGORIAN
METHOD:PUBLISH
X-WR-CALNAME:SiMODiSA Digital Portal
X-ORIGINAL-URL:https://venturecentral.simodisa.org
X-WR-CALDESC:Events for SiMODiSA Digital Portal
BEGIN:VTIMEZONE
TZID:Africa/Johannesburg
BEGIN:STANDARD
TZOFFSETFROM:+0200
TZOFFSETTO:+0200
TZNAME:SAST
DTSTART:20180101T000000
END:STANDARD
END:VTIMEZONE
BEGIN:VEVENT
DTSTART;TZID=Africa/Johannesburg:20181030T180000
DTEND;TZID=Africa/Johannesburg:20181030T210000
DTSTAMP:20260423T203732
CREATED:20181025T115822Z
LAST-MODIFIED:20181025T115822Z
UID:17281-1540922400-1540933200@venturecentral.simodisa.org
SUMMARY:Future Females | The Business of Social Media
DESCRIPTION:
URL:https://venturecentral.simodisa.org/event/future-females-the-business-of-social-media/
ATTACH;FMTTYPE=:
END:VEVENT
END:VCALENDAR