BEGIN:VCALENDAR
VERSION:2.0
PRODID:-//SiMODiSA Digital Portal - ECPv5.0.3.1//NONSGML v1.0//EN
CALSCALE:GREGORIAN
METHOD:PUBLISH
X-WR-CALNAME:SiMODiSA Digital Portal
X-ORIGINAL-URL:https://venturecentral.simodisa.org
X-WR-CALDESC:Events for SiMODiSA Digital Portal
BEGIN:VTIMEZONE
TZID:Africa/Johannesburg
BEGIN:STANDARD
TZOFFSETFROM:+0200
TZOFFSETTO:+0200
TZNAME:SAST
DTSTART:20190101T000000
END:STANDARD
END:VTIMEZONE
BEGIN:VEVENT
DTSTART;TZID=Africa/Johannesburg:20190219T180000
DTEND;TZID=Africa/Johannesburg:20190219T203000
DTSTAMP:20260423T165328
CREATED:20190218T155650Z
LAST-MODIFIED:20190218T155650Z
UID:17514-1550599200-1550608200@venturecentral.simodisa.org
SUMMARY:Future-proofing your business with Facebook
DESCRIPTION:A Facebook page gives your business a ready-made mobile strategy. With engaging content\, including eye-catching video\, and the use of messaging for personalised customer service\, your business can build a compelling mobile presence. Noha will reveal how easy it has become to reach customers down the street or on the other side of the world. \nJoin us to discover how Facebook can help your small business become large and your local business go global. \nThis event promises to be a fascinating and useful insight into how businesses can be kickstart their brand awareness and amplify their customer acquisition strategy. \n
URL:https://venturecentral.simodisa.org/event/future-proofing-your-business-with-facebook/
ATTACH;FMTTYPE=:
END:VEVENT
END:VCALENDAR