BEGIN:VCALENDAR
VERSION:2.0
PRODID:-//SiMODiSA Digital Portal - ECPv5.0.3.1//NONSGML v1.0//EN
CALSCALE:GREGORIAN
METHOD:PUBLISH
X-WR-CALNAME:SiMODiSA Digital Portal
X-ORIGINAL-URL:https://venturecentral.simodisa.org
X-WR-CALDESC:Events for SiMODiSA Digital Portal
BEGIN:VTIMEZONE
TZID:Africa/Johannesburg
BEGIN:STANDARD
TZOFFSETFROM:+0200
TZOFFSETTO:+0200
TZNAME:SAST
DTSTART:20170101T000000
END:STANDARD
END:VTIMEZONE
BEGIN:VEVENT
DTSTART;VALUE=DATE:20171109
DTEND;VALUE=DATE:20171110
DTSTAMP:20260421T033141
CREATED:20171109T135633Z
LAST-MODIFIED:20171109T135633Z
UID:12144-1510185600-1510271999@venturecentral.simodisa.org
SUMMARY:Global Entrepreneurship Week (GEW)
DESCRIPTION:
URL:https://venturecentral.simodisa.org/event/global-entrepreneurship-week-gew/
END:VEVENT
END:VCALENDAR